Workbook

Sheet SAŽETAK
A1: FINANCIJSKI PLAN DJEČJEG VRTIĆA "LAĐICA" ZA 2026. I PROJEKCIJA ZA 2027. I 2028. GODINU
A3: I. OPĆI DIO
A5: A) SAŽETAK RAČUNA PRIHODA I RASHODA
J6: EUR
F7: Izvršenje 2024. | G7: Tekući plan 2025. | H7: Plan za 2026. | I7: Projekcija za 2027. | J7: Projekcija za 2028.
A8: PRIHODI UKUPNO | F8: =F9+F10 -> 287569.93 | G8: =G9+G10 -> 297050 | H8: =H9+H10 -> 380000 | I8: =I9+I10 -> 387600 | J8: =J9+J10 -> 395352
A9: PRIHODI POSLOVANJA | F9: =' Račun prihoda i rashoda'!E10 -> 287569.93 | G9: =' Račun prihoda i rashoda'!F10 -> 297050 | H9: =' Račun prihoda i rashoda'!G10 -> 380000 | I9: =' Račun prihoda i rashoda'!H10 -> 387600 | J9: =' Račun prihoda i rashoda'!I10 -> 395352
A10: PRIHODI OD PRODAJE NEFINANCIJSKE IMOVINE | F10: 0 | G10: 0 | H10: 0 | I10: 0 | J10: 0
A11: RASHODI UKUPNO | F11: =F12+F13 -> 286678 | G11: =G12+G13 -> 297050 | H11: =H12+H13 -> 380000 | I11: =I12+I13 -> 387600 | J11: =J12+J13 -> 395352
A12: RASHODI POSLOVANJA | F12: =' Račun prihoda i rashoda'!E21 -> 285568 | G12: =' Račun prihoda i rashoda'!F21 -> 292050 | H12: =' Račun prihoda i rashoda'!G21 -> 378000 | I12: =' Račun prihoda i rashoda'!H21 -> 385560 | J12: =' Račun prihoda i rashoda'!I21 -> 393272
A13: RASHODI ZA NABAVU NEFINANCIJSKE IMOVINE | F13: =' Račun prihoda i rashoda'!E32 -> 1110 | G13: =' Račun prihoda i rashoda'!F32 -> 5000 | H13: =' Račun prihoda i rashoda'!G32 -> 2000 | I13: =' Račun prihoda i rashoda'!H32 -> 2040 | J13: =' Račun prihoda i rashoda'!I32 -> 2080
A14: RAZLIKA - VIŠAK / MANJAK | F14: =F8-F11 -> 891.93 | G14: =G8-G11 -> 0 | H14: =H8-H11 -> 0 | I14: =I8-I11 -> 0 | J14: =J8-J11 -> 0
A16: B) SAŽETAK RAČUNA FINANCIRANJA
F18: Izvršenje 2024. | G18: Tekući plan 2025. | H18: Plan za 2026. | I18: Projekcija za 2027. | J18: Projekcija za 2028.
A19: PRIMICI OD FINANCIJSKE IMOVINE I ZADUŽIVANJA | G19: 0 | H19: 0
A20: IZDACI ZA FINANCIJSKU IMOVINU I OTPLATE ZAJMOVA | G20: 0 | H20: 0
A21: NETO FINANCIRANJE | F21: 0 | G21: 0 | H21: 0 | I21: 0 | J21: 0
A23: C) PRENESENI VIŠAK ILI PRENESENI MANJAK I VIŠEGODIŠNJI PLAN URAVNOTEŽENJA
F25: Izvršenje 2024. | G25: Tekući plan 2025. | H25: Plan za 2026. | I25: Projekcija za 2027. | J25: Projekcija za 2028.
A26: UKUPAN DONOS VIŠKA / MANJKA IZ PRETHODNE(IH) GODINE* | F26: -1763 | G26: =F30 -> -871.07 | H26: =G30 -> -871.07 | I26: =H30 -> -871.07 | J26: =I30 -> -871.07
A27: VIŠAK / MANJAK IZ PRETHODNE(IH) GODINE KOJI ĆE SE RASPOREDITI / POKRITI | F27: =F14 -> 891.93 | G27: =G14 -> 0 | H27: =H14 -> 0 | I27: =I14 -> 0 | J27: =J14 -> 0
A30: VIŠAK / MANJAK + NETO FINANCIRANJE | F30: =F21+F26+F27 -> -871.07 | G30: =G21+G26+G27 -> -871.07 | H30: =H21+H26+H27 -> -871.07 | I30: =I21+I26+I27 -> -871.07 | J30: =J21+J26+J27 -> -871.07
A32: * Napomena: Redak UKUPAN DONOS VIŠKA/MANJKA IZ PRETHODNE(IH) GODINA služi kao informacija i ne uzima se u obzir kod uravnoteženja financijskog plana, već se financijski plan uravnotežuje retkom VIŠAK/MANJAK IZ PRETHODNE(IH) GODINE KOJI ĆE SE POKRITI/RASPOREDITI.

Sheet  Račun prihoda i rashoda
A1: FINANCIJSKI PLAN DJEČJEG VRTIĆA "LAĐICA" ZA 2026. I PROJEKCIJA ZA 2027. I 2028. GODINU
A3: I. OPĆI DIO
A5: A. RAČUN PRIHODA I RASHODA
A7: PRIHODI POSLOVANJA
A9: Razred | B9: Skupina | C9: Izvor | D9: Naziv prihoda | E9: Izvršenje 2024. | F9: Tekući plan 2025. | G9: Plan za 2026. | H9: Projekcija za 2027. | I9: Projekcija za 2028.
A10: 6 | D10: Prihodi poslovanja | E10: =E11+E13+E15 -> 287569.93 | F10: =F11+F13+F15 -> 297050 | G10: =G11+G13+G15 -> 380000 | H10: =H11+H13+H15 -> 387600 | I10: =I11+I13+I15 -> 395352
B11: 63 | D11: Pomoći iz inozemstva i od subjekata unutar općeg proračuna | E11: 86 | F11: 0 | G11: 0 | H11: 0 | I11: 0
C12: 51 | D12: Pomoći | E12: 86 | F12: 0 | G12: 0 | H12: 0 | I12: 0
B13: 65 | D13: Prihodi od upravnih i administrativnih pristojbi, prihodi po posebnim propisima i naknada | E13: 57641.93 | F13: 60000 | G13: 75000 | H13: 75000 | I13: 75000
C14: 41 | D14: Prihodi za posebne namjene | E14: 57642 | F14: 60000 | G14: 75000 | H14: 75000 | I14: 75000
B15: 67 | D15: Prihodi iz nadležnog proračuna i od HZZO-a temeljem ugovornih obveza | E15: 229842 | F15: 237050 | G15: 305000 | H15: 312600 | I15: 320352
C16: 11 | D16: Opći prihodi i primici | E16: 229842 | F16: 237050 | G16: 305000 | H16: 312600 | I16: 320352
A18: RASHODI POSLOVANJA
A20: Razred | B20: Skupina | C20: Izvor | D20: Naziv rashoda | E20: Izvršenje 2024. | F20: Tekući plan 2025. | G20: Plan za 2026. | H20: Projekcija za 2027. | I20: Projekcija za 2028.
A21: 3 | D21: Rashodi poslovanja | E21: =E22+E25+E29 -> 285568 | F21: =F22+F25+F29 -> 292050 | G21: =G22+G25+G29 -> 378000 | H21: =H22+H25+H29 -> 385560 | I21: =I22+I25+I29 -> 393272
B22: 31 | D22: Rashodi za zaposlene | E22: 181744 | F22: =F23+F24 -> 184722 | G22: =G23+G24 -> 281226 | H22: =H23+H24 -> 286851 | I22: =I23+I24 -> 292588
C23: 11 | D23: Opći prihodi i primici | E23: 181744 | F23: 184722 | G23: 281226 | H23: 286851 | I23: 292588
C24: 41 | D24: Prihodi za posebne namjene | E24: 0 | F24: 0 | G24: 0 | H24: 0 | I24: 0
B25: 32 | D25: Materijalni rashodi | E25: 103265 | F25: =F26+F27+F28 -> 106757 | G25: =G26+G27+G28 -> 96062 | H25: =H26+H27+H28 -> 97983 | I25: =I26+I27+I28 -> 99943
C26: 11 | D26: Opći prihodi i primici | E26: 45623 | F26: 48168 | G26: 21062 | H26: 21483 | I26: 21913
C27: 41 | D27: Prihodi za posebne namjene | E27: 57642 | F27: 58589 | G27: 75000 | H27: 76500 | I27: 78030
C28: 51 | D28: Pomoći | E28: 0 | F28: 0 | G28: 0 | H28: 0 | I28: 0
B29: 34 | D29: Financijski rashodi | E29: =E30+E31 -> 559 | F29: =F30+F31 -> 571 | G29: =G30+G31 -> 712 | H29: =H30+H31 -> 726 | I29: =I30+I31 -> 741
C30: 11 | D30: Opći prihodi i primici | E30: 559 | G30: 712 | H30: 726 | I30: 741
C31: 41 | D31: Prihodi za posebne namjene | E31: 0 | F31: 571 | G31: 0 | H31: 0 | I31: 0
A32: 4 | D32: Rashodi za nabavu nefinancijske imovine | E32: =E33 -> 1110 | F32: =F33 -> 5000 | G32: =G33 -> 2000 | H32: =H33 -> 2040 | I32: =I33 -> 2080
B33: 42 | D33: Rashodi za nabavu proizvedene dugotrajne imovine | E33: 1110 | F33: 5000 | G33: =G34 -> 2000 | H33: 2040 | I33: 2080
C34: 11 | D34: Opći prihodi i primici | E34: 1110 | F34: 5000 | G34: 2000 | H34: 2040 | I34: 2080

Sheet Rashodi prema funkcijskoj kl
A1: FINANCIJSKI PLAN DJEČJEG VRTIĆA "LAĐICA" ZA 2026. I PROJEKCIJA ZA 2027. I 2028. GODINU
A3: I. OPĆI DIO
A5: A. RAČUN PRIHODA I RASHODA
A7: RASHODI PREMA FUNKCIJSKOJ KLASIFIKACIJI
A9: BROJČANA OZNAKA I NAZIV | B9: Izvršenje 2024. | C9: Tekući plan 2025. | D9: Plan za 2026. | E9: Projekcija za 2027. | F9: Projekcija za 2028.
A10: UKUPNI RASHODI | B10: =B11 -> 286678 | C10: =C11 -> 297050 | D10: =D11 -> 380000 | E10: =E11 -> 387600 | F10: =F11 -> 395352
A11: 09 Obrazovanje | B11: =B12 -> 286678 | C11: =C12 -> 297050 | D11: =D12 -> 380000 | E11: =E12 -> 387600 | F11: =F12 -> 395352
A12: 091 Predškolsko i osnovno obrazovanje | B12: =' Račun prihoda i rashoda'!E21+' Račun prihoda i rashoda'!E32 -> 286678 | C12: =' Račun prihoda i rashoda'!F21+' Račun prihoda i rashoda'!F32 -> 297050 | D12: =' Račun prihoda i rashoda'!G21+' Račun prihoda i rashoda'!G32 -> 380000 | E12: =' Račun prihoda i rashoda'!H21+' Račun prihoda i rashoda'!H32 -> 387600 | F12: =' Račun prihoda i rashoda'!I21+' Račun prihoda i rashoda'!I32 -> 395352

Sheet Račun financiranja
A1: FINANCIJSKI PLAN DJEČJEG VRTIĆA "LAĐICA" ZA 2026. I PROJEKCIJA ZA 2027. I 2028. GODINU
A3: I. OPĆI DIO
A5: B. RAČUN FINANCIRANJA
A7: Razred | B7: Skupina | C7: Izvor | D7: Naziv | E7: Izvršenje 2024. | F7: Tekući plan 2025. | G7: Plan za 2026. | H7: Projekcija za 2027. | I7: Projekcija za 2028.
A8: 8 | D8: Primici od financijske imovine i zaduživanja | E8: 0 | F8: 0 | G8: 0 | H8: 0 | I8: 0
B9: 84 | D9: Primici od zaduživanja
C10: 81 | D10: Namjenski primici od zaduživanja
A11: 5 | D11: Izdaci za financijsku imovinu i otplate zajmova | E11: 0 | F11: 0 | G11: 0 | H11: 0 | I11: 0
B12: 54 | D12: Izdaci za otplatu glavnice primljenih kredita i zajmova
C13: 11 | D13: Opći prihodi i primici
C14: 41 | D14: Prihodi za posebne namjene

Sheet POSEBNI DIO
A1: FINANCIJSKI PLAN DJEČJEG VRTIĆA "LAĐICA" ZA 2026. I PROJEKCIJA ZA 2027. I 2028. GODINU
A3: II. POSEBNI DIO
A5: Šifra | D5: Naziv | E5: Izvršenje 2024. | F5: Tekući plan 2025. | G5: Plan za 2026. | H5: Projekcija za 2027. | I5: Projekcija za 2028.
A6: Aktivnost A100600 | D6: REDOVNA DJELATNOST DJEČJEG VRTIĆA LAĐICA | E6: =E10+E15 -> 286678 | F6: =F10+F15 -> 297050 | G6: =G10+G15 -> 380000 | H6: =H10+H15 -> 387600 | I6: =I10+I15 -> 395352
A7: Izvor financiranja 11 | D7: Opći prihodi i primici | E7: =' Račun prihoda i rashoda'!E23+' Račun prihoda i rashoda'!E26+' Račun prihoda i rashoda'!E30 -> 227926 | F7: =' Račun prihoda i rashoda'!F23+' Račun prihoda i rashoda'!F26+' Račun prihoda i rashoda'!F30 -> 232890 | G7: =' Račun prihoda i rashoda'!G23+' Račun prihoda i rashoda'!G26+' Račun prihoda i rashoda'!G30 -> 303000 | H7: =' Račun prihoda i rashoda'!H23+' Račun prihoda i rashoda'!H26+' Račun prihoda i rashoda'!H30 -> 309060 | I7: =' Račun prihoda i rashoda'!I23+' Račun prihoda i rashoda'!I26+' Račun prihoda i rashoda'!I30 -> 315242
A8: Izvor financiranja 41 | D8: Prihodi za posebne namjene | E8: =' Račun prihoda i rashoda'!E24+' Račun prihoda i rashoda'!E27+' Račun prihoda i rashoda'!E31 -> 57642 | F8: =' Račun prihoda i rashoda'!F24+' Račun prihoda i rashoda'!F27+' Račun prihoda i rashoda'!F31 -> 59160 | G8: =' Račun prihoda i rashoda'!G24+' Račun prihoda i rashoda'!G27+' Račun prihoda i rashoda'!G31 -> 75000 | H8: =' Račun prihoda i rashoda'!H24+' Račun prihoda i rashoda'!H27+' Račun prihoda i rashoda'!H31 -> 76500 | I8: =' Račun prihoda i rashoda'!I24+' Račun prihoda i rashoda'!I27+' Račun prihoda i rashoda'!I31 -> 78030
A9: Izvor financiranja 51 | D9: Pomoći | E9: =' Račun prihoda i rashoda'!E28 -> 0 | F9: =' Račun prihoda i rashoda'!F28 -> 0 | G9: =' Račun prihoda i rashoda'!G28 -> 0 | H9: =' Račun prihoda i rashoda'!H28 -> 0 | I9: =' Račun prihoda i rashoda'!I28 -> 0
A10: 3 | D10: Rashodi poslovanja | E10: =E11+E12+E13 -> 285568 | F10: =F11+F12+F13 -> 292050 | G10: =G11+G12+G13 -> 378000 | H10: =H11+H12+H13 -> 385560 | I10: =I11+I12+I13 -> 393272
A11: 31 | D11: Rashodi za zaposlene | E11: =' Račun prihoda i rashoda'!E22 -> 181744 | F11: =' Račun prihoda i rashoda'!F22 -> 184722 | G11: =' Račun prihoda i rashoda'!G22 -> 281226 | H11: =' Račun prihoda i rashoda'!H22 -> 286851 | I11: =' Račun prihoda i rashoda'!I22 -> 292588
A12: 32 | D12: Materijalni rashodi | E12: =' Račun prihoda i rashoda'!E25 -> 103265 | F12: =' Račun prihoda i rashoda'!F25 -> 106757 | G12: =' Račun prihoda i rashoda'!G25 -> 96062 | H12: =' Račun prihoda i rashoda'!H25 -> 97983 | I12: =' Račun prihoda i rashoda'!I25 -> 99943
A13: 34 | D13: Financijski rashodi | E13: =' Račun prihoda i rashoda'!E29 -> 559 | F13: =' Račun prihoda i rashoda'!F29 -> 571 | G13: =' Račun prihoda i rashoda'!G29 -> 712 | H13: =' Račun prihoda i rashoda'!H29 -> 726 | I13: =' Račun prihoda i rashoda'!I29 -> 741
A14: Izvor financiranja 11 | D14: Opći prihodi i primici | E14: =' Račun prihoda i rashoda'!E34 -> 1110 | F14: =' Račun prihoda i rashoda'!F34 -> 5000 | G14: =' Račun prihoda i rashoda'!G34 -> 2000 | H14: =' Račun prihoda i rashoda'!H34 -> 2040 | I14: =' Račun prihoda i rashoda'!I34 -> 2080
A15: 4 | D15: Rashodi za nabavu nefinancijske imovine | E15: =E16 -> 1110 | F15: =F16 -> 5000 | G15: =G16 -> 2000 | H15: =H16 -> 2040 | I15: =I16 -> 2080
A16: 42 | D16: Rashodi za nabavu proizvedene dugotrajne imovine | E16: =' Račun prihoda i rashoda'!E33 -> 1110 | F16: =' Račun prihoda i rashoda'!F33 -> 5000 | G16: =' Račun prihoda i rashoda'!G33 -> 2000 | H16: =' Račun prihoda i rashoda'!H33 -> 2040 | I16: =' Račun prihoda i rashoda'!I33 -> 2080
